Package: pipeFrame Version: 1.26.0 Command: /Library/Frameworks/R.framework/Resources/bin/R CMD build --keep-empty-dirs --no-resave-data pipeFrame StartedAt: 2025-11-10 17:21:38 -0500 (Mon, 10 Nov 2025) EndedAt: 2025-11-10 17:22:04 -0500 (Mon, 10 Nov 2025) EllapsedTime: 25.3 seconds RetCode: 0 Status: OK PackageFile: pipeFrame_1.26.0.tar.gz PackageFileSize: 1.195 MiB