Package: pipeComp Version: 1.20.0 Command: /Library/Frameworks/R.framework/Resources/bin/R CMD INSTALL pipeComp StartedAt: 2025-11-10 15:29:48 -0500 (Mon, 10 Nov 2025) EndedAt: 2025-11-10 15:30:20 -0500 (Mon, 10 Nov 2025) EllapsedTime: 31.9 seconds RetCode: 0 Status: OK