Package: phyloseq Version: 1.54.0 Command: /home/biocbuild/bbs-3.22-bioc/R/bin/R CMD INSTALL phyloseq StartedAt: 2025-10-31 15:25:06 -0400 (Fri, 31 Oct 2025) EndedAt: 2025-10-31 15:25:32 -0400 (Fri, 31 Oct 2025) EllapsedTime: 26.0 seconds RetCode: 0 Status: OK