Package: phyloseq Version: 1.54.0 Command: /home/biocbuild/bbs-3.22-bioc/R/bin/R CMD build --keep-empty-dirs --no-resave-data --md5 phyloseq StartedAt: 2025-10-31 19:28:21 -0400 (Fri, 31 Oct 2025) EndedAt: 2025-10-31 19:30:02 -0400 (Fri, 31 Oct 2025) EllapsedTime: 101.1 seconds RetCode: 0 Status: OK PackageFile: phyloseq_1.54.0.tar.gz PackageFileSize: 5.995 MiB