Package: phosphonormalizer Version: 1.34.0 Command: /Library/Frameworks/R.framework/Resources/bin/R CMD build --keep-empty-dirs --no-resave-data phosphonormalizer StartedAt: 2025-11-10 17:21:18 -0500 (Mon, 10 Nov 2025) EndedAt: 2025-11-10 17:21:23 -0500 (Mon, 10 Nov 2025) EllapsedTime: 5.1 seconds RetCode: 0 Status: OK PackageFile: phosphonormalizer_1.34.0.tar.gz PackageFileSize: 2.7 MiB