Package: phosphonormalizer Version: 1.34.0 Command: rm -rf phosphonormalizer.buildbin-libdir && mkdir phosphonormalizer.buildbin-libdir && /Users/biocbuild/BBS/utils/build-universal.sh phosphonormalizer_1.34.0.tar.gz /Library/Frameworks/R.framework/Resources/bin/R phosphonormalizer.buildbin-libdir StartedAt: 2025-11-10 23:31:06 -0500 (Mon, 10 Nov 2025) EndedAt: 2025-11-10 23:31:08 -0500 (Mon, 10 Nov 2025) EllapsedTime: 2.0 seconds RetCode: 0 Status: OK PackageFile: phosphonormalizer_1.34.0.tgz PackageFileSize: 2.709 MiB