Package: phenopath Version: 1.34.0 Command: /home/biocbuild/bbs-3.22-bioc/R/bin/R CMD INSTALL phenopath StartedAt: 2025-11-16 15:18:08 -0500 (Sun, 16 Nov 2025) EndedAt: 2025-11-16 15:18:42 -0500 (Sun, 16 Nov 2025) EllapsedTime: 33.1 seconds RetCode: 0 Status: OK