Package: phenoTest Version: 1.58.0 Command: /home/biocbuild/bbs-3.22-bioc/R/bin/R CMD INSTALL phenoTest StartedAt: 2025-11-17 17:20:49 -0500 (Mon, 17 Nov 2025) EndedAt: 2025-11-17 17:21:23 -0500 (Mon, 17 Nov 2025) EllapsedTime: 34.9 seconds RetCode: 0 Status: OK