Package: phenoTest Version: 1.58.0 Command: /home/biocbuild/bbs-3.22-bioc/R/bin/R CMD build --keep-empty-dirs --no-resave-data --md5 phenoTest StartedAt: 2025-11-17 22:43:07 -0500 (Mon, 17 Nov 2025) EndedAt: 2025-11-17 22:44:00 -0500 (Mon, 17 Nov 2025) EllapsedTime: 53.1 seconds RetCode: 0 Status: OK PackageFile: phenoTest_1.58.0.tar.gz PackageFileSize: 1.275 MiB