Package: pgxRpi Version: 1.5.5 Command: /home/biocbuild/bbs-3.22-bioc/R/bin/R CMD INSTALL pgxRpi StartedAt: 2025-10-24 15:41:47 -0400 (Fri, 24 Oct 2025) EndedAt: 2025-10-24 15:41:50 -0400 (Fri, 24 Oct 2025) EllapsedTime: 3.2 seconds RetCode: 0 Status: OK