Package: pepXMLTab Version: 1.44.0 Command: /home/biocbuild/R/R/bin/R CMD INSTALL pepXMLTab StartedAt: 2025-11-20 21:45:45 -0000 (Thu, 20 Nov 2025) EndedAt: 2025-11-20 21:46:14 -0000 (Thu, 20 Nov 2025) EllapsedTime: 29.8 seconds RetCode: 0 Status: OK