Package: pepXMLTab Version: 1.44.0 Command: /Library/Frameworks/R.framework/Resources/bin/R CMD INSTALL pepXMLTab StartedAt: 2025-11-17 16:49:32 -0500 (Mon, 17 Nov 2025) EndedAt: 2025-11-17 16:49:38 -0500 (Mon, 17 Nov 2025) EllapsedTime: 5.7 seconds RetCode: 0 Status: OK