Package: pepXMLTab Version: 1.44.0 Command: rm -rf pepXMLTab.buildbin-libdir && mkdir pepXMLTab.buildbin-libdir && /Users/biocbuild/BBS/utils/build-universal.sh pepXMLTab_1.44.0.tar.gz /Library/Frameworks/R.framework/Resources/bin/R pepXMLTab.buildbin-libdir StartedAt: 2025-11-18 18:15:15 -0500 (Tue, 18 Nov 2025) EndedAt: 2025-11-18 18:15:22 -0500 (Tue, 18 Nov 2025) EllapsedTime: 7.1 seconds RetCode: 0 Status: OK PackageFile: pepXMLTab_1.44.0.tgz PackageFileSize: 206.4 KiB