Package: pepXMLTab Version: 1.44.0 Command: /Library/Frameworks/R.framework/Resources/bin/R CMD INSTALL pepXMLTab StartedAt: 2025-11-03 15:09:24 -0500 (Mon, 03 Nov 2025) EndedAt: 2025-11-03 15:10:09 -0500 (Mon, 03 Nov 2025) EllapsedTime: 45.3 seconds RetCode: 0 Status: OK