Package: pepXMLTab Version: 1.44.0 Command: /Library/Frameworks/R.framework/Resources/bin/R CMD build --keep-empty-dirs --no-resave-data pepXMLTab StartedAt: 2025-11-03 18:13:43 -0500 (Mon, 03 Nov 2025) EndedAt: 2025-11-03 18:13:56 -0500 (Mon, 03 Nov 2025) EllapsedTime: 13.7 seconds RetCode: 0 Status: OK PackageFile: pepXMLTab_1.44.0.tar.gz PackageFileSize: 187.5 KiB