Package: pepXMLTab Version: 1.44.0 Command: rm -rf pepXMLTab.buildbin-libdir && mkdir pepXMLTab.buildbin-libdir && /Users/biocbuild/BBS/utils/build-universal.sh pepXMLTab_1.44.0.tar.gz /Library/Frameworks/R.framework/Resources/bin/R pepXMLTab.buildbin-libdir StartedAt: 2025-11-03 01:56:02 -0500 (Mon, 03 Nov 2025) EndedAt: 2025-11-03 01:56:09 -0500 (Mon, 03 Nov 2025) EllapsedTime: 6.8 seconds RetCode: 0 Status: OK PackageFile: pepXMLTab_1.44.0.tgz PackageFileSize: 206.2 KiB