Package: pepXMLTab Version: 1.44.0 Command: /Library/Frameworks/R.framework/Resources/bin/R CMD INSTALL pepXMLTab StartedAt: 2025-11-17 16:51:39 -0500 (Mon, 17 Nov 2025) EndedAt: 2025-11-17 16:51:40 -0500 (Mon, 17 Nov 2025) EllapsedTime: 1.2 seconds RetCode: 0 Status: OK