Package: pepXMLTab Version: 1.44.0 Command: /Library/Frameworks/R.framework/Resources/bin/R CMD build --keep-empty-dirs --no-resave-data pepXMLTab StartedAt: 2025-11-17 23:45:34 -0500 (Mon, 17 Nov 2025) EndedAt: 2025-11-17 23:45:39 -0500 (Mon, 17 Nov 2025) EllapsedTime: 5.0 seconds RetCode: 0 Status: OK PackageFile: pepXMLTab_1.44.0.tar.gz PackageFileSize: 187.7 KiB