Package: pepXMLTab Version: 1.44.0 Maintainer: Xiaojing Wang MaintainerEmail: xiaojing.wang at vanderbilt.edu git_url: https://git.bioconductor.org/packages/pepXMLTab git_branch: RELEASE_3_22 git_last_commit: c7325dd git_last_commit_date: 2025-10-29 10:23:02 -0500 (Wed, 29 Oct 2025)