Package: pengls Version: 1.16.0 Command: /home/biocbuild/bbs-3.22-bioc/R/bin/R CMD build --keep-empty-dirs --no-resave-data --md5 pengls StartedAt: 2025-11-03 19:20:03 -0500 (Mon, 03 Nov 2025) EndedAt: 2025-11-03 19:21:27 -0500 (Mon, 03 Nov 2025) EllapsedTime: 84.1 seconds RetCode: 0 Status: OK PackageFile: pengls_1.16.0.tar.gz PackageFileSize: 58.81 KiB