Package: peco Version: 1.22.0 Command: /home/biocbuild/bbs-3.22-bioc/R/bin/R CMD INSTALL peco StartedAt: 2025-11-16 16:00:05 -0500 (Sun, 16 Nov 2025) EndedAt: 2025-11-16 16:00:34 -0500 (Sun, 16 Nov 2025) EllapsedTime: 29.7 seconds RetCode: 0 Status: OK