Package: peco Version: 1.22.0 Command: /home/biocbuild/bbs-3.22-bioc/R/bin/R CMD build --keep-empty-dirs --no-resave-data --md5 peco StartedAt: 2025-11-16 19:23:50 -0500 (Sun, 16 Nov 2025) EndedAt: 2025-11-16 19:26:24 -0500 (Sun, 16 Nov 2025) EllapsedTime: 154.1 seconds RetCode: 0 Status: OK PackageFile: peco_1.22.0.tar.gz PackageFileSize: 1.068 MiB