Package: peakPantheR Version: 1.24.0 Command: /home/biocbuild/bbs-3.22-bioc/R/bin/R CMD INSTALL peakPantheR StartedAt: 2025-11-14 15:40:02 -0500 (Fri, 14 Nov 2025) EndedAt: 2025-11-14 15:40:12 -0500 (Fri, 14 Nov 2025) EllapsedTime: 10.3 seconds RetCode: 0 Status: OK