Package: peakPantheR Version: 1.24.0 Command: /home/biocbuild/bbs-3.22-bioc/R/bin/R CMD build --keep-empty-dirs --no-resave-data --md5 peakPantheR StartedAt: 2025-11-14 19:21:53 -0500 (Fri, 14 Nov 2025) EndedAt: 2025-11-14 19:23:29 -0500 (Fri, 14 Nov 2025) EllapsedTime: 96.1 seconds RetCode: 0 Status: OK PackageFile: peakPantheR_1.24.0.tar.gz PackageFileSize: 3.958 MiB