Package: peakCombiner Version: 1.0.0 Command: /home/biocbuild/bbs-3.22-bioc/R/bin/R CMD INSTALL peakCombiner StartedAt: 2025-11-03 15:15:25 -0500 (Mon, 03 Nov 2025) EndedAt: 2025-11-03 15:15:30 -0500 (Mon, 03 Nov 2025) EllapsedTime: 4.5 seconds RetCode: 0 Status: OK