Package: pcaMethods Version: 2.2.0 Command: /Library/Frameworks/R.framework/Resources/bin/R CMD build --keep-empty-dirs --no-resave-data pcaMethods StartedAt: 2025-11-18 01:00:14 -0500 (Tue, 18 Nov 2025) EndedAt: 2025-11-18 01:05:36 -0500 (Tue, 18 Nov 2025) EllapsedTime: 322.2 seconds RetCode: 0 Status: OK PackageFile: pcaMethods_2.2.0.tar.gz PackageFileSize: 1016 KiB