Package: pcaMethods Version: 2.1.0 Command: /Library/Frameworks/R.framework/Resources/bin/R CMD build --keep-empty-dirs --no-resave-data pcaMethods StartedAt: 2025-10-26 17:31:09 -0400 (Sun, 26 Oct 2025) EndedAt: 2025-10-26 17:31:56 -0400 (Sun, 26 Oct 2025) EllapsedTime: 46.5 seconds RetCode: 0 Status: OK PackageFile: pcaMethods_2.1.0.tar.gz PackageFileSize: 1017 KiB