Package: pcaMethods Version: 2.1.0 Command: rm -rf pcaMethods.buildbin-libdir && mkdir pcaMethods.buildbin-libdir && /Users/biocbuild/BBS/utils/build-universal.sh pcaMethods_2.1.0.tar.gz /Library/Frameworks/R.framework/Resources/bin/R pcaMethods.buildbin-libdir StartedAt: 2025-10-26 22:43:51 -0400 (Sun, 26 Oct 2025) EndedAt: 2025-10-26 22:43:56 -0400 (Sun, 26 Oct 2025) EllapsedTime: 5.1 seconds RetCode: 0 Status: OK PackageFile: pcaMethods_2.1.0.tgz PackageFileSize: 1.441 MiB