Package: pcaMethods Version: 2.2.0 Command: /Library/Frameworks/R.framework/Resources/bin/R CMD build --keep-empty-dirs --no-resave-data pcaMethods StartedAt: 2025-11-17 23:43:07 -0500 (Mon, 17 Nov 2025) EndedAt: 2025-11-17 23:43:50 -0500 (Mon, 17 Nov 2025) EllapsedTime: 42.4 seconds RetCode: 0 Status: OK PackageFile: pcaMethods_2.2.0.tar.gz PackageFileSize: 1018 KiB