Package: pcaExplorer Version: 3.3.0 Command: /home/biocbuild/bbs-3.22-bioc/R/bin/R CMD build --keep-empty-dirs --no-resave-data --md5 pcaExplorer StartedAt: 2025-10-24 19:23:32 -0400 (Fri, 24 Oct 2025) EndedAt: 2025-10-24 19:25:31 -0400 (Fri, 24 Oct 2025) EllapsedTime: 119.1 seconds RetCode: 0 Status: OK PackageFile: pcaExplorer_3.3.0.tar.gz PackageFileSize: 10.73 MiB