Package: pcaExplorer Version: 3.4.0 Command: rm -rf pcaExplorer.buildbin-libdir && mkdir pcaExplorer.buildbin-libdir && /Users/biocbuild/BBS/utils/build-universal.sh pcaExplorer_3.4.0.tar.gz /Library/Frameworks/R.framework/Resources/bin/R pcaExplorer.buildbin-libdir StartedAt: 2025-11-10 23:30:48 -0500 (Mon, 10 Nov 2025) EndedAt: 2025-11-10 23:31:13 -0500 (Mon, 10 Nov 2025) EllapsedTime: 24.6 seconds RetCode: 0 Status: OK PackageFile: pcaExplorer_3.4.0.tgz PackageFileSize: 8.386 MiB