Package: pathwayPCA Version: 1.25.0 Command: /home/biocbuild/bbs-3.22-bioc/R/bin/R CMD INSTALL pathwayPCA StartedAt: 2025-10-27 15:07:19 -0400 (Mon, 27 Oct 2025) EndedAt: 2025-10-27 15:07:34 -0400 (Mon, 27 Oct 2025) EllapsedTime: 14.9 seconds RetCode: 0 Status: OK