Package: pathwayPCA Version: 1.25.0 Command: /home/biocbuild/bbs-3.22-bioc/R/bin/R CMD build --keep-empty-dirs --no-resave-data --md5 pathwayPCA StartedAt: 2025-10-28 19:13:36 -0400 (Tue, 28 Oct 2025) EndedAt: 2025-10-28 19:15:55 -0400 (Tue, 28 Oct 2025) EllapsedTime: 139.1 seconds RetCode: 0 Status: OK PackageFile: pathwayPCA_1.25.0.tar.gz PackageFileSize: 3.394 MiB