Package: pathview Version: 1.50.0 Command: /home/biocbuild/bbs-3.22-bioc/R/bin/R CMD INSTALL pathview StartedAt: 2025-11-14 15:28:15 -0500 (Fri, 14 Nov 2025) EndedAt: 2025-11-14 15:28:33 -0500 (Fri, 14 Nov 2025) EllapsedTime: 17.9 seconds RetCode: 0 Status: OK