Back to Build/check report for BioC 3.22:   simplified   long
ABCDEFGHIJKLMNO[P]QRSTUVWXYZ

This page was generated on 2025-10-27 12:45 -0400 (Mon, 27 Oct 2025).

HostnameOSArch (*)R versionInstalled pkgs
kjohnson3macOS 13.7.7 Venturaarm644.5.1 Patched (2025-09-10 r88807) -- "Great Square Root" 4637
Click on any hostname to see more info about the system (e.g. compilers)      (*) as reported by 'uname -p', except on Windows and Mac OS X

All results for package pathview


To the developers/maintainers of the pathview package:
- Allow up to 24 hours (and sometimes 48 hours) for your latest push to git@git.bioconductor.org:packages/pathview.git to reflect on this report. See Troubleshooting Build Report for more information.
- Use the following Renviron settings to reproduce errors and warnings.
- If 'R CMD check' started to fail recently on the Linux builder(s) over a missing dependency, add the missing dependency to 'Suggests:' in your DESCRIPTION file. See Renviron.bioc for more information.

raw results

Package 1561/2361HostnameOS / ArchINSTALLBUILDCHECKBUILD BIN
pathview 1.49.0  (landing page)
Weijun Luo
Snapshot Date: 2025-10-26 13:45 -0400 (Sun, 26 Oct 2025)
git_url: https://git.bioconductor.org/packages/pathview
git_branch: devel
git_last_commit: 2c0bf57
git_last_commit_date: 2025-04-15 10:22:56 -0400 (Tue, 15 Apr 2025)
kjohnson3macOS 13.7.7 Ventura / arm64  OK    ERROR  skippedskipped



Results for Bioconductor software packages that depend directly on package pathview

QUICK STATSOS / ArchINSTALLBUILDCHECKBUILD BIN
kjohnson3macOS 13.7.7 Ventura / arm64
005
014
0004
004
Package 1/5HostnameOS / ArchINSTALLBUILDCHECKBUILD BIN
debrowser 1.37.0  (landing page)
Alper Kucukural
git_last_commit: ab3c2a8
git_last_commit_date: 2025-04-15 10:59:48 -0400
kjohnson3macOS 13.7.7 Ventura / arm64  OK    OK    OK    OK  UNNEEDED, same version is already published
Package 2/5HostnameOS / ArchINSTALLBUILDCHECKBUILD BIN
EGSEA 1.37.0  (landing page)
Monther Alhamdoosh
git_last_commit: 69d8079
git_last_commit_date: 2025-04-15 11:01:49 -0400
kjohnson3macOS 13.7.7 Ventura / arm64  OK    OK    OK    OK  UNNEEDED, same version is already published
Package 3/5HostnameOS / ArchINSTALLBUILDCHECKBUILD BIN
EnrichmentBrowser 2.39.2  (landing page)
Ludwig Geistlinger
git_last_commit: ec3525d
git_last_commit_date: 2025-09-14 17:05:17 -0400
kjohnson3macOS 13.7.7 Ventura / arm64  OK    ERROR  skippedskipped
Package 4/5HostnameOS / ArchINSTALLBUILDCHECKBUILD BIN
GDCRNATools 1.29.0  (landing page)
Ruidong Li
git_last_commit: c4da7e4
git_last_commit_date: 2025-04-15 11:17:24 -0400
kjohnson3macOS 13.7.7 Ventura / arm64  OK    OK    OK    OK  UNNEEDED, same version is already published
Package 5/5HostnameOS / ArchINSTALLBUILDCHECKBUILD BIN
SBGNview 1.23.0  (landing page)
Weijun Luo
git_last_commit: 24438cf
git_last_commit_date: 2025-04-15 11:47:35 -0400
kjohnson3macOS 13.7.7 Ventura / arm64  OK    OK    OK    OK  UNNEEDED, same version is already published