Package: pathlinkR Version: 1.6.0 Command: /Library/Frameworks/R.framework/Resources/bin/R CMD INSTALL pathlinkR StartedAt: 2025-11-10 15:25:14 -0500 (Mon, 10 Nov 2025) EndedAt: 2025-11-10 15:25:21 -0500 (Mon, 10 Nov 2025) EllapsedTime: 6.3 seconds RetCode: 0 Status: OK