Package: pathlinkR Version: 1.6.0 Command: /Library/Frameworks/R.framework/Resources/bin/R CMD build --keep-empty-dirs --no-resave-data pathlinkR StartedAt: 2025-11-10 17:19:02 -0500 (Mon, 10 Nov 2025) EndedAt: 2025-11-10 17:20:26 -0500 (Mon, 10 Nov 2025) EllapsedTime: 83.9 seconds RetCode: 0 Status: OK PackageFile: pathlinkR_1.6.0.tar.gz PackageFileSize: 4.703 MiB