Package: pathifier Version: 1.48.0 Command: /Library/Frameworks/R.framework/Resources/bin/R CMD build --keep-empty-dirs --no-resave-data pathifier StartedAt: 2025-11-10 17:19:01 -0500 (Mon, 10 Nov 2025) EndedAt: 2025-11-10 17:19:09 -0500 (Mon, 10 Nov 2025) EllapsedTime: 8.1 seconds RetCode: 0 Status: OK PackageFile: pathifier_1.48.0.tar.gz PackageFileSize: 2.033 MiB