Package: pathifier Version: 1.48.0 Command: rm -rf pathifier.buildbin-libdir && mkdir pathifier.buildbin-libdir && /Users/biocbuild/BBS/utils/build-universal.sh pathifier_1.48.0.tar.gz /Library/Frameworks/R.framework/Resources/bin/R pathifier.buildbin-libdir StartedAt: 2025-11-10 23:30:45 -0500 (Mon, 10 Nov 2025) EndedAt: 2025-11-10 23:30:47 -0500 (Mon, 10 Nov 2025) EllapsedTime: 2.1 seconds RetCode: 0 Status: OK PackageFile: pathifier_1.48.0.tgz PackageFileSize: 2.057 MiB