Package: pathRender Version: 1.77.0 Command: /home/biocbuild/bbs-3.22-bioc/R/bin/R CMD build --keep-empty-dirs --no-resave-data --md5 pathRender StartedAt: 2025-10-24 19:22:59 -0400 (Fri, 24 Oct 2025) EndedAt: 2025-10-24 19:23:24 -0400 (Fri, 24 Oct 2025) EllapsedTime: 25.0 seconds RetCode: 0 Status: OK PackageFile: pathRender_1.77.0.tar.gz PackageFileSize: 301.7 KiB