Package: pathRender Version: 1.78.0 Command: /Library/Frameworks/R.framework/Resources/bin/R CMD INSTALL pathRender StartedAt: 2025-11-10 15:09:04 -0500 (Mon, 10 Nov 2025) EndedAt: 2025-11-10 15:09:09 -0500 (Mon, 10 Nov 2025) EllapsedTime: 5.5 seconds RetCode: 0 Status: OK