Package: pathRender Version: 1.78.0 Command: /Library/Frameworks/R.framework/Resources/bin/R CMD build --keep-empty-dirs --no-resave-data pathRender StartedAt: 2025-11-10 17:19:33 -0500 (Mon, 10 Nov 2025) EndedAt: 2025-11-10 17:19:45 -0500 (Mon, 10 Nov 2025) EllapsedTime: 12.2 seconds RetCode: 0 Status: OK PackageFile: pathRender_1.78.0.tar.gz PackageFileSize: 301.2 KiB