Package: pathRender Version: 1.78.0 Command: rm -rf pathRender.buildbin-libdir && mkdir pathRender.buildbin-libdir && /Users/biocbuild/BBS/utils/build-universal.sh pathRender_1.78.0.tar.gz /Library/Frameworks/R.framework/Resources/bin/R pathRender.buildbin-libdir StartedAt: 2025-11-10 23:30:46 -0500 (Mon, 10 Nov 2025) EndedAt: 2025-11-10 23:30:53 -0500 (Mon, 10 Nov 2025) EllapsedTime: 6.2 seconds RetCode: 0 Status: OK PackageFile: pathRender_1.78.0.tgz PackageFileSize: 357 KiB