Package: pathMED Version: 1.2.0 Command: /home/biocbuild/bbs-3.22-bioc/R/bin/R CMD INSTALL pathMED StartedAt: 2025-11-13 15:59:40 -0500 (Thu, 13 Nov 2025) EndedAt: 2025-11-13 15:59:54 -0500 (Thu, 13 Nov 2025) EllapsedTime: 13.5 seconds RetCode: 0 Status: OK