Package: parglms Version: 1.42.0 Command: /home/biocbuild/bbs-3.22-bioc/R/bin/R CMD INSTALL parglms StartedAt: 2025-11-25 16:05:38 -0500 (Tue, 25 Nov 2025) EndedAt: 2025-11-25 16:05:43 -0500 (Tue, 25 Nov 2025) EllapsedTime: 4.7 seconds RetCode: 0 Status: OK