Package: parglms Version: 1.42.0 Command: /home/biocbuild/bbs-3.22-bioc/R/bin/R CMD build --keep-empty-dirs --no-resave-data --md5 parglms StartedAt: 2025-11-25 19:43:12 -0500 (Tue, 25 Nov 2025) EndedAt: 2025-11-25 19:43:39 -0500 (Tue, 25 Nov 2025) EllapsedTime: 27.1 seconds RetCode: 0 Status: OK PackageFile: parglms_1.42.0.tar.gz PackageFileSize: 273.8 KiB