Package: panelcn.mops Version: 1.31.2 Command: /home/biocbuild/bbs-3.22-bioc/R/bin/R CMD INSTALL panelcn.mops StartedAt: 2025-10-28 15:33:51 -0400 (Tue, 28 Oct 2025) EndedAt: 2025-10-28 15:34:03 -0400 (Tue, 28 Oct 2025) EllapsedTime: 12.0 seconds RetCode: 0 Status: OK