Package: pairedGSEA Version: 1.10.0 Command: /home/biocbuild/bbs-3.22-bioc/R/bin/R CMD INSTALL pairedGSEA StartedAt: 2025-11-16 15:35:50 -0500 (Sun, 16 Nov 2025) EndedAt: 2025-11-16 15:36:25 -0500 (Sun, 16 Nov 2025) EllapsedTime: 35.1 seconds RetCode: 0 Status: OK