Package: packFinder Version: 1.22.0 Command: /home/biocbuild/bbs-3.22-bioc/R/bin/R CMD INSTALL packFinder StartedAt: 2025-11-14 15:16:56 -0500 (Fri, 14 Nov 2025) EndedAt: 2025-11-14 15:16:58 -0500 (Fri, 14 Nov 2025) EllapsedTime: 2.2 seconds RetCode: 0 Status: OK