Package: packFinder Version: 1.22.0 Command: /home/biocbuild/bbs-3.22-bioc/R/bin/R CMD build --keep-empty-dirs --no-resave-data --md5 packFinder StartedAt: 2025-11-14 19:17:03 -0500 (Fri, 14 Nov 2025) EndedAt: 2025-11-14 19:17:15 -0500 (Fri, 14 Nov 2025) EllapsedTime: 12.0 seconds RetCode: 0 Status: OK PackageFile: packFinder_1.22.0.tar.gz PackageFileSize: 1.151 MiB